BEGIN:VCALENDAR
VERSION:2.0
PRODID:-// - ECPv4.6.19//NONSGML v1.0//EN
CALSCALE:GREGORIAN
METHOD:PUBLISH
X-ORIGINAL-URL:https://ukrainianinstitute.org
X-WR-CALDESC:Events for 
BEGIN:VEVENT
DTSTART;VALUE=DATE:20210123
DTEND;VALUE=DATE:20210210
DTSTAMP:20260419T210619
CREATED:20210130T223414Z
LAST-MODIFIED:20210130T223414Z
UID:5079-1611360000-1612915199@ukrainianinstitute.org
SUMMARY:Ukrainian Language Course for Beginners
DESCRIPTION:The Ukrainian Institute of America continues its online group course for beginners. This 10-week course will start on February 2nd\, 2021.  \nThe cost is $400.00. \nTeacher: Christina Pikhmanets \nIf you are interested\, please email us at info@ukrainianinstitute.org or call 212-288-8660. \nOur current classes are all taking place online. \nWhile learning Ukrainian with us\, you will also discover more about Ukrainian society\, culture and traditions. \nUkrainian Language Course for Beginners
URL:https://ukrainianinstitute.org/event/ukrainian-language-course-for-beginners/
CATEGORIES:Other
ATTACH;FMTTYPE=image/jpeg:https://ukrainianinstitute.org/wp-content/uploads/2021/01/Copy-of-Copy-of-Pink-Speech-Bubble-English-Language-Day-Social-Media-Graphic-1-1.jpg
END:VEVENT
END:VCALENDAR