BEGIN:VCALENDAR
VERSION:2.0
PRODID:-// - ECPv4.6.19//NONSGML v1.0//EN
CALSCALE:GREGORIAN
METHOD:PUBLISH
X-ORIGINAL-URL:https://ukrainianinstitute.org
X-WR-CALDESC:Events for 
BEGIN:VEVENT
DTSTART;VALUE=DATE:20170609
DTEND;VALUE=DATE:20170717
DTSTAMP:20260419T124147
CREATED:20170418T163922Z
LAST-MODIFIED:20170627T173814Z
UID:1907-1496966400-1500249599@ukrainianinstitute.org
SUMMARY:Veterans: Faces of World War II
DESCRIPTION:Sasha Maslov\nVeterans: Faces of World War II\nJune 9 – July 16\, 2017\nArtist reception and book signing: Friday\, June 9\, 6:00 to 8:00 PM \nArt at the Institute is proud to present Veterans: Faces of World War II\, an exhibition of portraits by New York-based photographer Sasha Maslov. It coincides with the release of Mr. Maslov’s book\, Veterans: Faces of World War II\, published by Princeton Architectural Press (New York: 2017). Curated by Walter Hoydysh\, PhD\, director of Art at the Institute\, the exhibition is Sasha Maslov’s first with the UIA.  \nVeterans is a series of portraits of people who actively participated in the Second World War. Maslov began the four-year project travelling different continents\, photographing and interviewing individuals who lived through the war. His sitters include not only soldiers but medics\, engineers\, partisans\, members of various resistance movements\, prisoners of war\, Holocaust survivors\, and civilians caught in the turmoil. \nThis documentary project looks behind the emotional drapery of each person photographed. Seventy years after the war that claimed millions of lives\, the photographer studies and compares the lives of those who survived and are still living today. Each subject has his or her own personal story to tell of the war\, how it affected them\, and the years thereafter. The resulting photographs\, interviews and published book assemble a recorded mosaic of people who in one moment of history were all engaged in this incredible tragedy\, and in the other\, living their separate lives in different corners of the world. \nSasha Maslov is a Ukrainian-born portrait photographer who lives and works in New York. His works have been exhibited in photo galleries and art spaces throughout Europe and the United States\, and his editorial assignments appear regularly in major global magazines and newspapers. Mr. Maslov is represented by Artists by Timothy Priano creative agency. For more information about Sasha Maslov\, please visit www.sashamaslov.com. \nAt a parallel event\, Mr. Maslov gave a book talk and signing of Veterans: Faces of World War II at the 92 Street Y on May 17. \n[su_button url=”http://ukrainianinstitute.org/wp-content/uploads/2017/04/Sasha-Maslov_press-release_FINAL.pdf” style=”soft”]PRESS RELEASE[/su_button]\n  \nDmytro Verholjak\, Markova\, Ukraine\nVeterans: Faces of World War II
URL:https://ukrainianinstitute.org/event/veterans-faces-of-world-war-ii/
CATEGORIES:Art
ATTACH;FMTTYPE=image/jpeg:https://ukrainianinstitute.org/wp-content/uploads/2017/04/MASLOV-SASHA.jpg
END:VEVENT
END:VCALENDAR