BEGIN:VCALENDAR
VERSION:2.0
PRODID:-// - ECPv4.6.19//NONSGML v1.0//EN
CALSCALE:GREGORIAN
METHOD:PUBLISH
X-ORIGINAL-URL:https://ukrainianinstitute.org
X-WR-CALDESC:Events for 
BEGIN:VEVENT
DTSTART;TZID=America/New_York:20190825T160000
DTEND;TZID=America/New_York:20190825T160000
DTSTAMP:20260419T141113
CREATED:20190701T192607Z
LAST-MODIFIED:20190806T202423Z
UID:3529-1566748800-1566748800@ukrainianinstitute.org
SUMMARY:Vyshyvanka Run 2019
DESCRIPTION: \nUkrainian Running Club New York and Ukrainian Institute of America invite you to the 5th Vyshyvanka Run 2019 celebrating the 28th Independence Day of Ukraine! \nVyshyvanka Run is a charity event. We encourage you to register and make a donation in advance. \nTicket price: $5 in advance (Buy Now)\, $10 at the door + donation to charity. (please\, donate by following the link). \nEvent is free for kids. \nAll donations will go to support Ukrainian disabled athlete Serhiy Amelko\, who is in need of a new racing wheelchair. Remaining $1\,740 of $3\,695 needed to collect to make Serhiy’s dream come true ($720 is left from the previous charity fundraiser and $1\,260 is already raised via GoFundMe and you can add your contribution. \nThe main goal of the event is to promote a healthy and active lifestyle while preserving and demonstrating Ukraine’s rich culture through the traditions associated with the vyshyvanka. \nThis event supports the restoration of the Ukrainian patriotic spirit in movement. Vyshyvanka is a Ukrainian word for the embroidered blouses and shirts that Ukrainians wear to show unity\, spirit and the feeling of belonging to one Ukrainian nation. \nPlease wear your vyshyvanka or an embroidered cotton T-shirt. Embroidered T-shirts (vyshyvankas) will be available for purchase at the event. \nDistance of the Vyshyvanka Run: 2+ miles run; 1+ mile walk.\nBoth adults and children are welcomed.\nGathering location: Ukrainian Institute of America\, 2 East 79th Street (between 5th Ave and Madison Ave).\nRun will take place in Central Park (course maps will be provided in advance). \nPost run celebration sponsored by “Veselka” restaurant. \nThis event is a part of the international “Vyshyvanka Run”\, that takes place in many cities in Ukraine and around the world. \n  \nVyshyvanka Run 2019
URL:https://ukrainianinstitute.org/event/vyshyvanka-run-2/
CATEGORIES:Other
END:VEVENT
END:VCALENDAR