BEGIN:VCALENDAR
VERSION:2.0
PRODID:-// - ECPv4.6.19//NONSGML v1.0//EN
CALSCALE:GREGORIAN
METHOD:PUBLISH
X-ORIGINAL-URL:https://ukrainianinstitute.org
X-WR-CALDESC:Events for 
BEGIN:VEVENT
DTSTART;TZID=America/New_York:20141126T120000
DTEND;TZID=America/New_York:20150130T180000
DTSTAMP:20260420T130324
CREATED:20141117T221500Z
LAST-MODIFIED:20141117T221500Z
UID:858-1417003200-1422640800@ukrainianinstitute.org
SUMMARY:Winter Art Show and Sale 
DESCRIPTION: \nArt@the Institute is pleased to announce the Winter Art Show and Sale opening on November 26\, 2014 in our New York gallery. This selling exhibition offers works by Vasyl Bazhaj\, Igor Grechanik Jacques Hnizdovsky\, Liuboslav Hutsaliuk\, Mychailo Moroz\, Ilona\, Sochynsky\, Temo Svirely\, Max Vityk\, Mykola Zhuravel\, Volodymyr Zhuravel and others.  \nThe gallery will be open from 12:00 to 6:00 PM Tuesday through Sunday.  \nThe show runs through January 30\, 2015. \nWinter Art Show and Sale
URL:https://ukrainianinstitute.org/event/winter-art-show-and-sale/
CATEGORIES:Art
END:VEVENT
END:VCALENDAR