BEGIN:VCALENDAR
VERSION:2.0
PRODID:-// - ECPv4.6.19//NONSGML v1.0//EN
CALSCALE:GREGORIAN
METHOD:PUBLISH
X-ORIGINAL-URL:https://ukrainianinstitute.org
X-WR-CALDESC:Events for 
BEGIN:VEVENT
DTSTART;TZID=America/New_York:20141203T190000
DTEND;TZID=America/New_York:20141203T190000
DTSTAMP:20260420T111204
CREATED:20141114T233722Z
LAST-MODIFIED:20141114T233722Z
UID:857-1417633200-1417633200@ukrainianinstitute.org
SUMMARY:Workshop "Speaking Ukrainian in Ukrainian" Part II
DESCRIPTION: \nУкраїнський Інститут Америки та Комітет Молодих Професіоналів запрошують Вас на  \nСемінар-обговорення “Навіщо мові бур’яни?” Частина II  \nУ програмі:\n– poзвиток та становлення української літературної мови;\n– як правильно: клас чи кляса? Інтелігенція чи інтеліґенція?\n– обговорення з публікою. \nУ середу\, 3 грудня 2014 року Бібліотека розташована на 3-му поверсі та запрошує Вас о 18:30. Семінар-дискусія почнеться о19:00. \nВхід $15 і включає легку перекуску \nДля участі просимо зголоситись до 1-го грудня на електронну адресу: ypc@ukrainianinstitute.org \nWorkshop “Speaking Ukrainian in Ukrainian” Part II
URL:https://ukrainianinstitute.org/event/workshop-speaking-ukrainian-in-ukrainian-part-ii/
CATEGORIES:Other
END:VEVENT
END:VCALENDAR