BEGIN:VCALENDAR
VERSION:2.0
PRODID:-// - ECPv4.6.19//NONSGML v1.0//EN
CALSCALE:GREGORIAN
METHOD:PUBLISH
X-ORIGINAL-URL:https://ukrainianinstitute.org
X-WR-CALDESC:Events for 
BEGIN:VEVENT
DTSTART;TZID=America/New_York:20141213T193000
DTEND;TZID=America/New_York:20141213T193000
DTSTAMP:20260420T145125
CREATED:20141113T181650Z
LAST-MODIFIED:20141113T181650Z
UID:856-1418499000-1418499000@ukrainianinstitute.org
SUMMARY:Yalynka
DESCRIPTION: \nYalynka
URL:https://ukrainianinstitute.org/event/yalynka/
CATEGORIES:Other
END:VEVENT
END:VCALENDAR